Workbook

Sheet Conti
B2: DATA | J2: TOTALI
B3: GARA
A4: COSTI | B4: IMPIANTI | C4: ='CPI MAS'!G14 -> -1200 | D4: ='Gara 2'!G14 -> 0 | E4: ='Gara 3'!G16 -> 0 | F4: ='Gara 4'!G15 -> 0 | G4: ='Gara 5'!G16 -> 0 | J4: =SUM(C4:I4) -> -1200
B5: GIUDICI | C5: ='CPI MAS'!G23 -> -384.2 | D5: ='Gara 2'!G23 -> 0 | E5: ='Gara 3'!G17 -> 0 | F5: ='Gara 4'!G16 -> 0 | G5: ='Gara 5'!G17 -> 0 | J5: =SUM(C5:I5) -> -384.2
B6: CRONO 1 | C6: ='CPI MAS'!G24 -> -350 | D6: ='Gara 2'!G24 -> 0 | E6: ='Gara 3'!G18 -> 0 | F6: ='Gara 4'!G17 -> 0 | G6: ='Gara 5'!G18 -> 0 | J6: =SUM(C6:I6) -> -350
B7: CRONO 2 | C7: 0 | D7: 0 | E7: ='Gara 3'!G19 -> 0 | F7: ='Gara 4'!G18 -> 0 | G7: ='Gara 5'!G19 -> 0 | J7: =SUM(C7:I7) -> 0
B8: AMBULANZA | C8: ='Gara 3'!G19 -> 0 | D8: 0 | E8: ='Gara 3'!G20 -> 0 | F8: ='Gara 4'!G19 -> 0 | G8: ='Gara 5'!G20 -> 0 | J8: =SUM(C8:I8) -> 0
B9: MEDICO | C9: 0 | D9: 0 | E9: ='Gara 3'!G21 -> 0 | F9: ='Gara 4'!G20 -> 0 | G9: ='Gara 5'!G21 -> 0 | J9: =SUM(C9:I9) -> 0
B10: VITTO/ALLOGGIO | C10: ='CPI MAS'!G32 -> -993.8 | D10: ='Gara 2'!G32 -> 0 | E10: ='Gara 3'!G22 -> 0 | F10: ='Gara 4'!G21 -> 0 | G10: ='Gara 5'!G22 -> 0 | J10: =SUM(C10:I10) -> -993.8
B11: PREMI COPPE | C11: ='CPI MAS'!G33 -> -942.46 | D11: ='Gara 2'!G33 -> 0 | E11: ='Gara 3'!G23 -> 0 | F11: ='Gara 4'!G22 -> 0 | G11: ='Gara 5'!G23 -> 0 | J11: =SUM(C11:I11) -> -942.46
B12: GADGET | C12: ='CPI MAS'!G34 -> -927.2 | D12: ='Gara 2'!G34 -> 0 | E12: ='Gara 3'!G24 -> 0 | F12: ='Gara 4'!G23 -> 0 | G12: ='Gara 5'!G24 -> 0 | J12: =SUM(C12:I12) -> -927.2
B13: PREMI NATURA | C13: ='CPI MAS'!E37+'CPI MAS'!E38 -> -273.44 | E13: ='Gara 3'!G24 -> 0 | F13: ='Gara 4'!G23 -> 0 | G13: ='Gara 5'!G24 -> 0 | J13: =SUM(C13:I13) -> -273.44
B14: CARBURANTE | C14: ='CPI MAS'!G40 -> -55.66 | D14: ='Gara 2'!G40 -> 0 | E14: ='Gara 3'!G25 -> 0 | F14: ='Gara 4'!G24 -> 0 | G14: ='Gara 5'!G25 -> 0 | J14: =SUM(C14:I14) -> -55.66
B15: FISI VENETO | C15: 0 | D15: 0 | E15: ='Gara 3'!G26 -> 0 | F15: ='Gara 4'!G25 -> 0 | G15: ='Gara 5'!G26 -> 0 | J15: =SUM(C15:I15) -> 0
B16: FISI TV | C16: 0 | D16: 0 | E16: ='Gara 3'!G27 -> 0 | F16: ='Gara 4'!G26 -> 0 | G16: ='Gara 5'!G27 -> 0 | J16: =SUM(C16:I16) -> 0
B17: BENEFICENZA | J17: =SUM(C17:I17) -> 0
B18: COSTI TOTALI | C18: =SUM(C4:C17) -> -5126.76 | D18: =SUM(D4:D17) -> 0 | E18: =SUM(E4:E17) -> 0 | F18: =SUM(F4:F17) -> 0 | G18: =SUM(G4:G17) -> 0 | H18: =SUM(H4:H17) -> 0 | I18: =SUM(I4:I17) -> 0 | J18: =SUM(J4:J17) -> -5126.76
B19: ENTRATE
B20: RIMBORSI | C20: ='CPI MAS'!E35+'CPI MAS'!E39 -> 0 | J20: =SUM(C20:I20) -> 0
A21: RICAVI | B21: CONTANTI | C21: ='CPI MAS'!N29 -> 2935 | D21: ='Gara 2'!N29+'Gara 2'!N34 -> 0 | E21: ='Gara 3'!N31 -> 0 | F21: ='Gara 4'!N33 -> 0 | G21: ='Gara 5'!N32 -> 0 | J21: =SUM(C21:I21) -> 2935
B22: ASSEGNI | C22: ='CPI MAS'!N30 -> 0 | D22: ='Gara 2'!N30 -> 0 | E22: ='Gara 3'!N32 -> 0 | F22: ='Gara 4'!N34 -> 0 | G22: ='Gara 5'!N33 -> 0 | J22: =SUM(C22:I22) -> 0
B23: BONIFICI | C23: ='CPI MAS'!N31 -> 3622 | D23: ='Gara 2'!N31 -> 0 | E23: ='Gara 3'!N33 -> 0 | F23: ='Gara 4'!N35 -> 0 | G23: ='Gara 5'!N34 -> 0 | J23: =SUM(C23:I23) -> 3622
B24: PAYPAL | C24: 0 | D24: 0 | E24: ='Gara 3'!N34 -> 0 | F24: ='Gara 4'!N36 -> 0 | G24: ='Gara 5'!N35 -> 0 | J24: =SUM(C24:I24) -> 0
B25: RECUPERO | C25: ='Gara 3'!N37 -> 0 | D25: 0 | E25: ='Gara 3'!N35 -> 0 | F25: ='Gara 4'!N37 -> 0 | G25: ='Gara 5'!N36 -> 0 | J25: =SUM(C25:I25) -> 0
B26: ISCR. CSAV | C26: =-'CPI MAS'!N22 -> 270 | E26: ='Gara 3'!N36 -> 0 | F26: ='Gara 4'!N38 -> 0 | G26: ='Gara 5'!N37 -> 0 | J26: =SUM(C26:I26) -> 270
B27: ENTRATE | C27: =SUM(C20:C26) -> 6827 | D27: =SUM(D20:D26) -> 0 | E27: ='Gara 3'!N37 -> 0 | F27: ='Gara 4'!N39 -> 0 | G27: ='Gara 5'!N38 -> 0 | H27: =SUM(H20:H26) -> 0 | I27: =SUM(I20:I26) -> 0 | J27: =SUM(J20:J26) -> 6827
B28: ISCR. CSAV | C28: 0 | D28: =-'Gara 2'!N22 -> 0 | E28: ='Gara 3'!N38 -> 0 | F28: ='Gara 4'!N40 -> 0 | G28: ='Gara 5'!N39 -> 0 | J28: =SUM(C28:I28) -> 0
C29: =SUM(C27:C28) -> 6827 | D29: =SUM(D27:D28) -> 0 | E29: =SUM(E27:E28) -> 0 | F29: ='Gara 4'!N41 -> 0 | G29: ='Gara 5'!N40 -> 0 | J29: =SUM(J27:J28) -> 6827
C30: ok | D30: ok | E30: ok
B31: SBILANCIO | C31: =C29+C18 -> 1700.24 | D31: =D29+D18 -> 0 | E31: =E29+E18 -> 0 | F31: =F29+F18 -> 0 | G31: =G29+G18 -> 0 | H31: =H29-H18 -> 0 | I31: =I29-I18 -> 0 | J31: =J29+J18 -> 1700.24
C32: DEFINITIVO | D32: DEFINITIVO | E32: DEFINITIVO | F32: DEFINITIVO | J32: =SUM(C31:I31) -> 1700.24

Sheet Date
B1: DATA | C1: GG | D1: OCCUPATA | E1: EVENTO | H1: RICHIESTE
A2: GENNAIO | B2: 2 | C2: SABATO
B3: 3 | C3: DOMENICA
B4: 4 | C4: LUNEDI'
B5: 5 | C5: MARTEDI'
B6: 6 | C6: MERCOLEDI'
B7: 9 | C7: SABATO | H7: GS TV VE PD | I7: LUSIA | J7: CSAV
B8: 10 | C8: DOMENICA | H8: GS TV VE PD | I8: LUSIA | J8: CSAV
B9: 16 | C9: SABATO
B10: 17 | C10: DOMENICA | H10: GP LB FLIPPER | I10: GALLINA | J10: CSAV
B11: 22 | C11: VENERDI' | D11: S. Pellegrino | E11: CdM SX
B12: 23 | C12: SABATO | D12: S. Pellegrino | E12: CdM SX | F12: Lusia | G12: Gara Locale
B13: 24 | C13: DOMENICA
B14: 30 | C14: SABATO
B15: 31 | C15: DOMENICA | H15: GP GS | I15: LUSIA | J15: S.C. TV
A16: FEBBRAIO | B16: 6 | C16: SABATO
B17: 7 | C17: DOMENICA | D17: Gallina | H17: SL | I17: S. MARTINO | J17: S.C. TV
B18: 13 | C18: SABATO
B19: 14 | C19: DOMENICA | D19: Lusia | E19: Amici Neve
B20: 20 | C20: SABATO | H20: GP SG | I20: LUSIA | J20: CSAV | K20: RECUPERO
B21: 21 | C21: DOMENICA | H21: GP SG | I21: LUSIA | J21: CSAV | K21: RECUPERO
B22: 27 | C22: SABATO
B23: 28 | C23: DOMENICA
A24: MARZO | B24: 6 | C24: SABATO
B25: 7 | C25: DOMENICA | D25: Gallina
B26: 13 | C26: SABATO | H26: GP SX | I26: S. PELL | J26: CSAV
B27: 14 | C27: DOMENICA | H27: GP SX | I27: S. PELL | J27: CSAV
B28: 20 | C28: SABATO
B29: 21 | C29: DOMENICA
B30: 27 | C30: SABATO | D30: Lusia
B31: 28 | C31: DOMENICA

Sheet Organizz
A1: DESCRIZIONE | B1: DENOMINAZIONE | C1: TIPO | D1: CATEGORIE | E1: SPEC | F1: DATA INIZ | G1: LOCALITA' | H1: PISTA | I1: DATA FINE | J1: GG | K1: CRONO | L1: STATO | M1: N. GIUDICI | N1: STATO | O1: N. ASSIST | P1: STATO | Q1: HOTEL | R1: NOME HOTEL | S1: PREZZO | T1: STATO | U1: MEDICO | V1: AMBULANZA
A2: GRAND PRIX | B2: LATTEBUSCHE - TR. PANPIUMA | C2: P1 PI PUL FL | D2: SB BAB CUC | E2: FL | F2: 46397 | G2: COL GALLINA | H2: OVEST
A3: GRAND PRIX | B3: NET INSURANCE | C3: R3 RQ CHI | D3: RAG | E3: GS 1 M | F3: 46403 | G3: ALPE DI LUSIA | H3: MEDIOLANUM
A4: GRAND PRIX | B4: NET INSURANCE | C4: R3 RQ CHI | D4: RAG | E4: GS 1 M | F4: 46403 | G4: ALPE DI LUSIA | H4: MEDIOLANUM
A5: GRAND PRIX | B5: NET INSURANCE - TR. SPORTEAM | C5: R3 RQ CHI | D5: ALL | E5: GS 2M | F5: 46404 | G5: ALPE DI LUSIA | H5: MEDIOLANUM
A6: TR. PROVV. TV VE PD | C6: P1 G_GS | D6: GIO SEN | E6: GS | F6: 46446 | G6: P.S.PELLEGRINO | H6: COSTABELLA
A7: TR. PROVV. TV VE PD | B7: TR. PANPIUMA | C7: P1 G_GS | D7: SB BAB CUC RAG ALL | E7: GS | F7: 46446 | G7: P.S.PELLEGRINO | H7: COSTABELLA
A8: GRAND PRIX | B8: NET INSURANCE | C8: R4 CR CHI | D8: RAG | E8: GX | F8: 46459 | G8: P.S.PELLEGRINO | H8: MONZONI
A9: GRAND PRIX | B9: NET INSURANCE | C9: R4 CR CHI | D9: ALL | E9: GX | F9: 46460 | G9: P.S.PELLEGRINO | H9: MONZONI
A10: GRAND PRIX | B10: NET INSURANCE | C10: R3 RQ CHI | D10: RAG DATA ALTERNATIVA | E10: GS | F10: 46438 | G10: ALPE DI LUSIA | H10: MEDIOLANUM
A11: GRAND PRIX | B11: NET INSURANCE | C11: R3 RQ CHI | D11: ALL DATA ALTERNATIVA | E11: GS | F11: 46439 | G11: ALPE DI LUSIA | H11: MEDIOLANUM

Sheet Premi CPI
C1: ANNO | D1: AL
A2: GRUPPI | B2: U7 Super Baby 1
A3: Under 12 PULCINI | B3: U8 Super Baby 2
B4: U9 Baby 1
B5: U10 Baby 2
B6: U11 Cuccioli 1
B7: U12 Cuccioli 2
A8: Under 16 CHILDREN | B8: U14 Ragazzi
B9: U16 Allievi
A10: Under 21 GIOVANI | B10: U18 Aspiranti | E10: 3 | F10: 3
B11: U21 Juniores
B12: U21 Giovani | E12: 3 | F12: 3
A13: SENIORES
A14: SENIOR | E14: 3 | F14: 3
A15: MASTER A | B15: A1 | E15: 3 | F15: 3
B16: A2 | E16: 3 | F16: 3
B17: A3 | E17: 3 | F17: 3
A18: MASTER B | B18: B4 | E18: 3 | F18: 3
B19: B5 | E19: 3 | F19: 3
B20: B6 | E20: 3 | F20: 3
A21: MASTER C | B21: C7 | E21: 3 | F21: 3
B22: C8 | E22: 3 | F22: 3
B23: C9 | E23: 3 | F23: 3
B24: C10 | E24: 3 | F24: 3
B25: C11 | E25: 3 | F25: 3
B26: C12 | E26: 3 | F26: 3
B27: C13 | E27: 3 | F27: 3 | G27: Premi per gara
E28: =SUM(E12:E27) -> 45 | F28: =SUM(F12:F27) -> 45 | G28: =SUM(E28:F28) -> 90 | H28: 1° | I28: 15 | J28: 15 | K28: =SUM(I28:J28) -> 30
H29: 2° | I29: 15 | J29: 15 | K29: =SUM(I29:J29) -> 30
H30: 3° | I30: 15 | J30: 15 | K30: =SUM(I30:J30) -> 30
G31: Premi totali | I31: =SUM(I28:I30) -> 45 | J31: =SUM(J28:J30) -> 45
E32: Gare n. | F32: 4 | G32: =G28*F32 -> 360

Sheet  Premi TvVePd
C1: ANNO | D1: AL
A2: GRUPPI | B2: U7 Super Baby 1 | C2: 2015
A3: Under 12 PULCINI | B3: U8 Super Baby 2 | C3: 2014
B4: U9 Baby 1 | C4: 2013
B5: U10 Baby 2 | C5: 1012
B6: U11 Cuccioli 1 | C6: 2011
B7: U12 Cuccioli 2 | C7: 2010
A8: Under 16 CHILDREN | B8: U14 Ragazzi | C8: 2008 | D8: 2009
B9: U16 Allievi | C9: 2006 | D9: 2007
A10: Under 21 GIOVANI | B10: U18 Aspiranti | C10: 2004 | D10: 2005 | E10: 3 | F10: 3
B11: U21 Juniores | C11: 2001 | D11: 2003
B12: U21 Giovani | C12: 2001 | D12: 2005 | E12: 3 | F12: 3
A13: SENIORES | C13: 2000 | D13: e prec
A14: SENIOR | C14: 1992 | D14: 2000 | E14: 3 | F14: 3
A15: MASTER A | B15: A1 | C15: 1987 | D15: 1991 | E15: 3 | F15: 3
B16: A2 | C16: 1982 | D16: 1986 | E16: 3 | F16: 3
B17: A3 | C17: 1977 | D17: 1981 | E17: 3 | F17: 3
A18: MASTER B | B18: B4 | C18: 1972 | D18: 1976 | E18: 3 | F18: 3
B19: B5 | C19: 1967 | D19: 1971 | E19: 3 | F19: 3
B20: B6 | C20: 1962 | D20: 1966 | E20: 3 | F20: 3
A21: MASTER C | B21: C7 | C21: 1957 | D21: 1961 | E21: 3 | F21: 3
B22: C8 | C22: 1952 | D22: 1956 | E22: 3 | F22: 3
B23: C9 | C23: 1947 | D23: 1951 | E23: 3 | F23: 3
B24: C10 | C24: 1942 | D24: 1946 | E24: 3 | F24: 3
B25: C11 | C25: 1937 | D25: 1941 | E25: 3 | F25: 3
B26: C12 | C26: 1932 | D26: 1936 | E26: 3 | F26: 3
B27: C13 | C27: e prec. | D27: 1931 | E27: 3 | F27: 3
E28: =SUM(E12:E27) -> 45 | F28: =SUM(F12:F27) -> 45 | H28: 1° | I28: 15 | J28: 15 | K28: =SUM(I28:J28) -> 30
H29: 2° | I29: 15 | J29: 15 | K29: =SUM(I29:J29) -> 30
H30: 3° | I30: 15 | J30: 15 | K30: =SUM(I30:J30) -> 30
I31: =SUM(I28:I30) -> 45 | J31: =SUM(J28:J30) -> 45

Sheet CPI MAS
C1: CPI MAS | D1: ID | E1: 55568 | I1: OMOLOGAZIONE | K1: SCAD
B2: DATA | C2: 46067 | E2: 46068 | I2: 24/052/VE/1 | J2: GS | K2: 12601
B3: LOCALITA' | C3: FALCADE | E3: FALCADE | I3: 24/051/VE/1 | J3: SL | K3: 12601
B4: PISTA | C4: PANORAMICA | E4: PANORAMICA
B5: NOME GARA
B6: TROFEO 1 | C6: PANPIUMA
B7: TROFEO 2 | C7: COL VETORAZ | O7: RUOLO | P7: N. | Q7: 46067 | R7: SKIPASS | S7: 46068 | T7: SKIPASS
A8: IMPIANTI | B8: COSTI | D8: N. | E8: COSTO UNITARIO | F8: TOTALE | I8: ISCRIZIONI | J8: GARA N. | K8: TIPO | L8: N. | M8: UNITARIO | N8: TOTALE | O8: APRIPISTA | P8: 1 | Q8: MARCHIORI | S8: ZAMBELLI | T8: 1
B9: NOLEGGIO PISTA | D9: 2 | E9: -600 | F9: =D9*E9 -> -1200 | J9: 1 | K9: GS | L9: 109 | M9: 18 | N9: =L9*M9 -> 1962 | P9: 2 | Q9: TOSO M | S9: BEN
B10: TRACCIATURA | F10: =D10*E10 -> 0 | J10: 2 | K10: GS | L10: 109 | M10: 18 | N10: =L10*M10 -> 1962 | O10: PETTORALI | P10: 3 | Q10: STEFI | S10: STEFI
B11: GUARDIAPORTE | F11: =D11*E11 -> 0 | J11: 3 | K11: SL | L11: 68 | M11: 18 | N11: =L11*M11 -> 1224 | O11: LISCIA | P11: 4 | Q11: TRINCO | S11: TRINCO
B12: ASSISTENZA IN PISTA | F12: =D12*E12 -> 0 | J12: 4 | K12: GS | L12: 93 | M12: 18 | N12: =L12*M12 -> 1674 | P12: 5 | Q12: CHIOZZOTTO | R12: 1 | S12: CHIOZZOTTO | T12: 1
B13: BONUS | F13: =E13 -> 0 | N13: =L13*M13 -> 0 | P13: 6 | Q13: FULLIN | S13: FULLIN
B14: TOTALE IMPIANTI | D14: 1 | F14: =SUM(F9:F13) -> -1200 | G14: =F14 -> -1200 | N14: =L14*M14 -> 0 | P14: 7 | Q14: CAMUFFO | S14: CAMUFFO
B15: AMBULANZA | E15: 0 | F15: =D15*E15 -> 0 | G15: =F15 -> 0 | N15: =L15*M15 -> 0 | P15: 8 | Q15: MACI | S15: MACI
A16: GIUDICI | B16: KM TD | D16: 240 | E16: -0.33 | F16: =D16*E16 -> -79.2 | N16: =L16*M16 -> 0 | O16: GUARDIAPORTE | P16: 9 | Q16: STEFI | S16: STEFI
B17: DIARIA T.D. | D17: 2 | E17: -100 | F17: =D17*E17 -> -200 | N17: =L17*M17 -> 0 | P17: 10 | Q17: GABRIELI | S17: GAETANI
B18: RIMBORSO SPESE T.D. | D18: 1 | E18: -5 | F18: =D18*E18 -> -5 | N18: =L18*M18 -> 0 | P18: 11 | Q18: TOSO G | S18: TOSO G
B19: KM GIUDICI | E19: -0.33 | F19: =D19*E19 -> 0 | N19: =L19*M19 -> 0 | P19: 12 | Q19: ROTELLI | S19: MUNARO | T19: 1
B20: DIARIA GIUDICI | D20: 2 | E20: -50 | F20: =D20*E20 -> -100 | I20: N. ISCRIZIONI | L20: =SUM(L9:L18) -> 379 | N20: =SUM(N9:N18) -> 6822 | P20: 13 | S20: BARBINI | T20: 1
B21: DIARIA GIUDICI | F21: =D21*E21 -> 0 | O21: SPEAKER | P21: 14
B22: SPESE GIUDICI | F22: =D22*E22 -> 0 | I22: ISCRITTI CSAV | N22: =-90-72-54-54 -> -270 | O22: TABELLONE | P22: 15
B23: TOTALE GIUDICI | F23: =SUM(F16:F22) -> -384.2 | G23: =F23 -> -384.2 | N23: =L23*M23 -> 0 | O23: DATI | Q23: ARSIE' | R23: 1 | S23: ARSIE' | T23: 1
B24: CRONOMETRISTRI | D24: 1 | E24: -350 | F24: =E24*D24 -> -350 | G24: =F24 -> -350 | N24: =SUM(N22:N24) -> 0 | O24: DELEGATO | T24: 1
A25: VITTO/ALLOGGIO | B25: ALLOGGIO GIUDICI/STAFF | D25: 1 | E25: -484 | F25: =D25*E25 -> -484 | I25: NETTO ISCRIZIONI | N25: =N20+N22 -> 6552 | O25: PARTENZA | R25: 1
B26: ALLOGGIO STAFF | D26: 1 | E26: -86 | F26: =D26*E26 -> -86 | I26: NON PAGATO | L26: 1 | M26: 18 | N26: 0 | O26: FOTO | R26: 1 | T26: 1
B27: ALLOGGIO CRONO | F27: =D27*E27 -> 0 | O27: VIDEO | R27: 1 | T27: 1
B28: GIUD CSAV | F28: =D28*E28 -> 0 | N28: =SUM(N25:N27) -> 6552 | O28: CRONO | R28: 4 | T28: 4
B29: CENA STAFF | F29: =D29*E29 -> 0 | I29: CONTANTI | N29: 2935
B30: RIFUGIO | D30: 1 | E30: -400 | F30: =D30*E30 -> -400 | I30: ASSEGNI | O30: TOTALE | R30: =SUM(R12:R28) -> 9 | T30: =SUM(T8:T28) -> 12
B31: BAR/PANINI | D31: 1 | E31: -23.8 | F31: =E31 -> -23.8 | I31: BONIFICI | N31: =1944+90+36+630+54+54+144+162+36+454+18 -> 3622
B32: VITTO/ALLOGGIO | F32: =SUM(F25:F31) -> -993.8 | G32: =F32 -> -993.8 | N32: =SUM(N29:N31) -> 6557
A33: PREMI | B33: MEDAGLIE BACEDO | D33: 1 | E33: -942.46 | F33: =D33*E33 -> -942.46 | G33: =F33 -> -942.46 | I33: QUADRATURA | N33: =N32-N28 -> 5 | O33: Crono: | Q33: Agordino
B34: GADGET DOMINA | D34: 1 | E34: -927.2 | F34: =D34*E34 -> -927.2 | G34: =F34 -> -927.2 | I34: RESO | O34: Hotel | Q34: Stella Alpina
B35: CONTRIBUTO ALI | F35: =D35*E35 -> 0 | G35: =E35 -> 0 | Q35: Ciclamino
F36: =D36*E36 -> 0 | I36: RECUPERO ISCRIZIONI | M36: 18 | N36: =L36*M36 -> 0 | O36: Foto | Q36: Foto&GraficaDolomiti
B37: PREMI ALI | E37: -205.41 | I37: DA RECUPERARE | O37: Buste
B38: PREMI WSTORE | E38: -68.03 | O38: Premi
B39: RIMBORSO PREMI | G39: =E37+E39+E38 -> -273.44
B40: CARBURANTE | D40: 1 | E40: -55.66 | F40: =D40*E40 -> -55.66 | G40: =F40 -> -55.66 | I40: INCASSATI | N40: =N28+N34+N36+N33 -> 6557
...

Sheet Gara 2
B2: DATA
B3: LOCALITA'
B4: PISTA
B5: NOME GARA
B6: TROFEO 1
B7: TROFEO 2
A8: IMPIANTI | B8: COSTI | D8: N. | E8: COSTO UNITARIO | F8: TOTALE | I8: ISCRIZIONI | J8: GARA N. | K8: TIPO | L8: N. | M8: RICAVO UNITARIO | N8: TOTALE
B9: NOLEGGIO PISTA | F9: =D9*E9 -> 0 | N9: =L9*M9 -> 0
B10: TRACCIATURA | F10: =D10*E10 -> 0 | N10: =L10*M10 -> 0
B11: GUARDIAPORTE | F11: =D11*E11 -> 0 | N11: =L11*M11 -> 0
B12: ASSISTENZA IN PISTA | F12: =D12*E12 -> 0 | N12: =L12*M12 -> 0
B13: BONUS | F13: =E13 -> 0 | N13: =L13*M13 -> 0
B14: TOTALE IMPIANTI | F14: =SUM(F9:F13) -> 0 | G14: =F14 -> 0 | N14: =L14*M14 -> 0
B15: AMBULANZA | E15: 0 | F15: =D15*E15 -> 0 | G15: =F15 -> 0 | N15: =L15*M15 -> 0
A16: GIUDICI | B16: KM TD | F16: =D16*E16 -> 0 | N16: =L16*M16 -> 0
B17: DIARIA T.D. | F17: =D17*E17 -> 0 | N17: =L17*M17 -> 0
B18: RIMBORSO SPESE T.D. | F18: =D18*E18 -> 0 | N18: =L18*M18 -> 0
B19: KM GIUDICI | F19: =D19*E19 -> 0 | N19: =L19*M19 -> 0
B20: DIARIA GIUDICI | F20: =D20*E20 -> 0 | I20: N. ISCRIZIONI | L20: =SUM(L9:L18) -> 0 | N20: =SUM(N9:N18) -> 0
B21: DIARIA GIUDICI | F21: =D21*E21 -> 0
B22: SPESE GIUDICI | F22: =D22*E22 -> 0 | I22: ISCRITTI CSAV | N22: 0
B23: TOTALE GIUDICI | F23: =SUM(F16:F22) -> 0 | G23: =F23 -> 0 | N23: =L23*M23 -> 0
B24: CRONOMETRISTRI | F24: =E24*D24 -> 0 | G24: =F24 -> 0 | N24: =SUM(N22:N24) -> 0
A25: VITTO/ALLOGGIO | B25: ALLOGGIO GIUDICI/STAFF | F25: =D25*E25 -> 0 | I25: NETTO ISCRIZIONI | N25: =N20+N22 -> 0
B26: VITTO GIUDICI | F26: =D26*E26 -> 0 | I26: NON PAGATO | N26: 0
B27: ALLOGGIO CRONO | F27: =D27*E27 -> 0
B28: GIUD CSAV | F28: =D28*E28 -> 0 | N28: =SUM(N25:N27) -> 0
B29: CENA STAFF | F29: =D29*E29 -> 0 | I29: CONTANTI
B30: RIFUGIO | F30: =D30*E30 -> 0 | I30: ASSEGNI
B31: BAR/PANINI | F31: =E31 -> 0 | I31: BONIFICI
B32: VITTO/ALLOGGIO | F32: =SUM(F25:F31) -> 0 | G32: =F32 -> 0
A33: PREMI | B33: COPPE/MEDAGLIE | F33: =D33*E33 -> 0 | G33: =F33 -> 0 | I33: QUADRATURA | N33: =N32-N28 -> 0
B34: PREMI NATURA | F34: =D34*E34 -> 0 | I34: RESO
B35: CONTRIBUTO | F35: =D35*E35 -> 0 | G35: =E35 -> 0
B36: CONTRIBUTO TV | F36: =D36*E36 -> 0 | I36: RECUPERO ISCRIZIONI | L36: 1 | M36: 19
I37: DA RECUPERARE
G39: =E37+E39+E38 -> 0
B40: CARBURANTE | F40: =D40*E40 -> 0 | G40: =F40 -> 0 | I40: INCASSATI | N40: =N28+N34+N36+N33 -> 0
B41: COSTI | E41: TOTALE | F41: =F14+F23+F24+F32+F37 -> 0 | G41: =SUM(G9:G40) -> 0 | I41: RICAVI | L41: TOTALI | M41: =N40-N22 -> 0
B42: Presenti
...

Sheet Gara 3
B2: DATA
B3: LOCALITA'
B4: PISTA
B5: NOME GARA
B6: TROFEO 1
B7: TROFEO 2
A8: IMPIANTI | B8: COSTI | D8: N. | E8: COSTO UNITARIO | F8: TOTALE | I8: ISCRIZIONI | J8: GARA N. | K8: TIPO | L8: N. | M8: RICAVO UNITARIO | N8: TOTALE
B9: NOLEGGIO PISTA | F9: =D9*E9 -> 0 | N9: =L9*M9 -> 0
B10: TRACCIATURA | F10: =D10*E10 -> 0 | N10: =L10*M10 -> 0
B11: GUARDIAPORTE | F11: =D11*E11 -> 0 | N11: =L11*M11 -> 0
B12: SOCCORSO MOTOSLITTA | F12: =D12*E12 -> 0 | N12: =L12*M12 -> 0
B13: ASSISTENZA IN PISTA | F13: =D13*E13 -> 0 | N13: =L13*M13 -> 0
B14: RIMBORSO PALI | F14: =D14*E14 -> 0 | N14: =L14*M14 -> 0
B15: GATTO | E15: 0 | F15: =D15*E15 -> 0 | N15: =L15*M15 -> 0
B16: TOTALE IMPIANTI | D16: 1 | F16: =SUM(F9:F15) -> 0 | G16: =-F16 -> 0 | N16: =L16*M16 -> 0
B17: AMBULANZA | F17: =D17*E17 -> 0 | G17: =F17 -> 0 | N17: =L17*M17 -> 0
A18: GIUDICI | B18: KM TD | F18: =D18*E18 -> 0 | N18: =L18*M18 -> 0
B19: DIARIA T.D. | F19: =D19*E19 -> 0 | N19: =L19*M19 -> 0
B20: RIMBORSO SPESE T.D. | F20: =D20*E20 -> 0 | N20: =L20*M20 -> 0
B21: KM GIUDICI | D21: 0.37 | F21: =-D21*E21 -> 0 | N21: =L21*M21 -> 0
B22: DIARIA GIUDICI | F22: =-D22*E22 -> 0 | I22: N. ISCRIZIONI | L22: =SUM(L9:L20) -> 0 | N22: =SUM(N9:N20) -> 0
B23: DIARIA GIUDICI | F23: =-D23*E23 -> 0
B24: KM GIUDICI | D24: 0.37 | F24: =-D24*E24 -> 0 | I24: PARTITI | N24: =L24*M24 -> 0
B25: TOTALE GIUDICI | F25: =SUM(F18:F24) -> 0 | G25: =F25 -> 0 | I25: NON PARTITI | N25: =L25*M25 -> 0
B26: CRONOMETRISTRI | F26: =E26*D26 -> 0 | G26: =-F26 -> 0 | I26: NETTO ISCRITTI | N26: =N22-N25 -> 0
A27: VITTO/ALLOGGIO | B27: ALLOGGIO GIUDICI/STAFF | F27: =D27*E27 -> 0 | N27: =N26 -> 0 | O27: 18
B28: VITTO GIUDICI | F28: =-D28*E28 -> 0 | I28: ISCRITTI CSAV | N28: =-M28 -> 0 | O28: 32
B29: ALLOGGIO CRONO | F29: =D29*E29 -> 0 | I29: NETTO ISCRIZIONI | O29: 36
B30: GIUD CSAV | F30: =D30*E30 -> 0 | N30: =SUM(N27:N29) -> 0 | O30: -18
B31: CENA STAFF | F31: =D31*E31 -> 0 | I31: CONTANTI | O31: =SUM(O27:O30) -> 68
B32: RIFUGIO | F32: =D32*E32 -> 0 | I32: ASSEGNI | N32: 0
B33: BAR/PANINI | F33: =E33 -> 0 | I33: BONIFICI
B34: VITTO/ALLOGGIO | F34: =SUM(F27:F33) -> 0 | G34: =F34 -> 0 | N34: =SUM(N31:N33) -> 0
A35: PREMI | B35: COPPE/MEDAGLIE | F35: =D35*E35 -> 0 | I35: QUADRATURA | N35: =N34-N30 -> 0
B36: PREMI NATURA | F36: =D36*E36 -> 0
B37: COPPE/MEDAGLIE | F37: =D37*E37 -> 0 | I37: RECUPERO ISCRIZIONI | N37: 0
B38: PREMI | F38: =SUM(F35:F37) -> 0 | G38: =F38 -> 0
B39: CARBURANTE | F39: =D39*E39 -> 0 | G39: =F39 -> 0 | N39: =N34+N37 -> 0
B40: COSTI | E40: TOTALE | F40: =F16+F25+F26+F34+F38 -> 0 | G40: =SUM(G9:G39) -> 0 | I40: RICAVI | L40: TOTALI | M40: =N39 -> 0
B41: Presenti
...

Sheet Gara 4
B2: DATA
B3: LOCALITA'
B4: PISTA
B5: NOME GARA
B6: TROFEO 1
B7: TROFEO 2
A8: IMPIANTI | B8: COSTI | D8: N. | E8: COSTO UNITARIO | F8: TOTALE | I8: ISCRIZIONI | J8: GARA N. | K8: TIPO | L8: N. | M8: RICAVO UNITARIO | N8: TOTALE | P8: PREMI | Q8: MASC. | R8: FEMM.
B9: NOLEGGIO PISTA | D9: 1 | F9: =D9*E9 -> 0 | N9: =L9*M9 -> 0 | P9: GIOVANI | Q9: 3 | R9: 3
B10: TRACCIATURA | F10: =D10*E10 -> 0 | N10: =L10*M10 -> 0 | P10: SENIOR | Q10: 3
B11: GUARDIAPORTE | F11: =D11*E11 -> 0 | N11: =L11*M11 -> 0 | P11: MAS A+B | Q11: 3
B12: SOCCORSO MOTOSLITTA | F12: =D12*E12 -> 0 | N12: =L12*M12 -> 0 | P12: MAS C+SEN | R12: 3
B13: ASSISTENZA IN PISTA | F13: =D13*E13 -> 0 | N13: =L13*M13 -> 0 | P13: TOT | Q13: =SUM(Q9:Q12) -> 9 | R13: =SUM(R9:R12) -> 6
B14: RIMBORSO PALI | F14: =D14*E14 -> 0 | N14: =L14*M14 -> 0
B15: GATTO | E15: 0 | F15: =D15*E15 -> 0 | N15: =L15*M15 -> 0 | P15: RIEPILOGO | Q15: 1° | R15: 5
B16: TOTALE IMPIANTI | D16: 1 | G16: =-SUM(F9:F15) -> 0 | N16: =L16*M16 -> 0 | Q16: 2° | R16: 5
B17: AMBULANZA | G17: =F17 -> 0 | N17: =L17*M17 -> 0 | Q17: 3° | R17: 5
A18: GIUDICI | B18: MEDICO | F18: =D18*E18 -> 0 | N18: =L18*M18 -> 0 | R18: =SUM(R15:R17) -> 15
F19: =D19*E19 -> 0 | N19: =L19*M19 -> 0 | P19: 3 MASCHILI e 2 FEMMINILI
F20: =D20*E20 -> 0 | N20: =L20*M20 -> 0
B21: KM GIUDICI | F21: =D21*E21 -> 0 | N21: =L21*M21 -> 0
B22: DIARIA GIUDICI | F22: =D22*E22 -> 0 | I22: N. ISCRIZIONI | L22: =SUM(L9:L20) -> 0 | N22: =SUM(N9:N20) -> 0
B23: DIARIA GIUDICI | F23: =D23*E23 -> 0
B24: SPESE GIUDICI | F24: =D24*E24 -> 0 | I24: ISCRITTI CSAV
B25: TOTALE GIUDICI | F25: =SUM(F21:F24) -> 0 | G25: =F25 -> 0 | I25: CREDITI PREC GARA
A26: VITTO/ALLOGGIO | B26: CRONOMETRISTRI | G26: =-F26 -> 0 | I26: NETTO ISCRITTI | N26: =SUM(N22:N25) -> 0
B27: ALLOGGIO GIUDICI/STAFF | F27: =D27*E27 -> 0 | N27: =N26 -> 0
B28: VITTO GIUDICI | F28: =D28*E28 -> 0 | I28: ISCRITTI CSAV | N28: =M28*M9 -> 0
B29: ALLOGGIO CRONO | F29: =D29*E29 -> 0 | I29: NETTO ISCRIZIONI | N29: =SUM(N27:N28) -> 0
B30: GIUD CSAV | F30: =D30*E30 -> 0 | N30: =L30*M30 -> 0
B31: CENA STAFF | F31: =D31*E31 -> 0 | I31: CONTANTI
B32: RIFUGIO | F32: =D32*E32 -> 0 | I32: ASSEGNI | N32: 0
B33: BAR/PANINI | E33: 0 | F33: =E33 -> 0 | I33: BONIFICI
A34: PREMI | B34: VITTO/ALLOGGIO | F34: =SUM(F27:F33) -> 0 | G34: =F34 -> 0 | N34: =SUM(N31:N33) -> 0
B35: COPPE/MEDAGLIE | F35: =D35*E35 -> 0 | I35: QUADRATURA | N35: =N34-N27 -> 0
B36: PREMI NATURA | F36: =-D36*E36 -> 0
B37: COPPE/MEDAGLIE | F37: =D37*E37 -> 0 | I37: RECUPERO ISCRIZIONI
B38: PREMI | G38: =F38 -> 0
B39: CARBURANTE | F39: =D39*E39 -> 0 | G39: =F39 -> 0 | N39: =N34+N37 -> 0
B40: COSTI | E40: TOTALE | F40: =F16+F25+F26+F34+F38 -> 0 | G40: =SUM(G9:G39) -> 0 | I40: RICAVI | L40: TOTALI | M40: =N39-N24 -> 0
B41: Presenti
...

Sheet Gara 5
B2: DATA
B3: LOCALITA'
B4: PISTA
B5: NOME GARA
B6: TROFEO 1 | Q6: SKIPASS | R6: ASSISTENZA GARA
B7: TROFEO 2 | S7: TOTALI
A8: IMPIANTI | B8: COSTI | D8: N. | E8: COSTO UNITARIO | F8: TOTALE | I8: ISCRIZIONI | J8: GARA N. | K8: TIPO | L8: N. | M8: UNITARIO | N8: TOTALE | P8: GUARDIAPORTE | S8: =SUM(R8:R8) -> 0
B9: NOLEGGIO PISTA | D9: 1 | F9: =D9*E9 -> 0 | H9: P | N9: =M9*L9 -> 0 | P9: LISCIATORI | S9: =SUM(R9:R9) -> 0
B10: TRACCIATURA | F10: =D10*E10 -> 0 | N10: =M10*L10 -> 0 | P10: GUARDIAPORTE | S10: =SUM(R10:R10) -> 0
B11: GUARDIAPORTE | F11: =D11*E11 -> 0 | N11: =M11*L11 -> 0 | P11: TABELLONE | S11: =SUM(R11:R11) -> 0
B12: SOCCORSO MOTOSLITTA | F12: =D12*E12 -> 0 | N12: =M12*L12 -> 0 | P12: SPEAKER | S12: =SUM(R12:R12) -> 0
B13: ASSISTENZA IN PISTA | F13: =D13*E13 -> 0 | N13: =M13*L13 -> 0 | P13: PETTORALI
E14: 0 | F14: =D14*E14 -> 0 | N14: =M14*L14 -> 0 | P14: MEDICO
B15: TOTALE IMPIANTI | D15: 1 | F15: =SUM(F9:F14) -> 0 | G15: =-F15 -> 0 | N15: =M15*L15 -> 0 | R15: =SUM(R8:R14) -> 0 | S15: =SUM(S8:S14) -> 0
B16: AMBULANZA | F16: =D16*E16 -> 0 | G16: =-F16 -> 0 | N16: =M16*L16 -> 0
B17: MEDICO 1 | F17: =D17*E17 -> 0 | G17: =-F17 -> 0 | H17: P
B18: MEDICO 2 | F18: =D18*E18 -> 0 | G18: =-F18 -> 0 | N18: =M18*L18 -> 0
A19: GIUDICI | B19: KM TD | F19: =D19*E19 -> 0 | N19: =M19*L19 -> 0
B20: DIARIA T.D. | F20: =D20*E20 -> 0 | N20: =M20*L20 -> 0
B21: RIMBORSO SPESE T.D. | F21: =D21*E21 -> 0 | N21: =M21*L21 -> 0 | P21: SABATO | Q21: SKIPASS | R21: DOMENICA | T21: SKIPASS
B22: KM GIUDICE 1 | F22: =D22*E22 -> 0 | N22: 0 | O22: 1
B23: DIARIA GIUDICE 1 | F23: =D23*E23 -> 0 | I23: N. ISCRIZIONI | L23: =SUM(L9:L21) -> 0 | N23: =SUM(N9:N22) -> 0 | O23: 2
B24: DIARIA GIUDICE 2 | F24: =D24*E24 -> 0 | O24: 3 | S24: GUARDIAPORTE
B25: PEDAGGIO | F25: =D25*E25 -> 0
B26: KM GIUDICE 2 | F26: =D26*E26 -> 0 | I26: PARTITI | N26: =L26*M26 -> 0 | O26: 4
B27: TOTALE GIUDICI | F27: =SUM(F19:F26) -> 0 | G27: =-F27 -> 0 | I27: NON PARTITI | N27: =L27*M27 -> 0 | O27: 5 | S27: "+BANDIERA
B28: CRONOMETRISTI | F28: =E28*D28 -> 0 | G28: =-F28 -> 0 | H28: P | I28: NETTO ISCRITTI | N28: =N23-N27 -> 0 | O28: 6
A29: VITTO/ALLOGGIO | B29: ALLOGGIO GIUDICI/STAFF | F29: =D29*E29 -> 0 | H29: P | N29: =N28 -> 0
B30: VITTO GIUDICI | F30: =D30*E30 -> 0
B31: ALLOGGIO CRONO | F31: =D31*E31 -> 0 | I31: NETTO ISCRIZIONI | N31: =SUM(N29:N30) -> 0 | O31: 7
B32: VITTO CRONO | F32: =D32*E32 -> 0 | H32: P | N32: =L32*M32 -> 0 | O32: 8
B33: CENA STAFF | F33: =D33*E33 -> 0 | H33: P | I33: CONTANTI | O33: 9 | S33: LISCIATORI
B34: RIFUGIO X GPORTE E GIUDICI | F34: =D34*E34 -> 0 | H34: P | I34: RESI | O34: 10
B35: RIMBORSO CRONO | I35: BONIFICI | O35: 11
B36: VITTO/ALLOGGIO | F36: =SUM(F29:F35) -> 0 | G36: =-F36 -> 0 | N36: =SUM(N33:N35) -> 0
A37: PREMI | B37: COPPE/MEDAGLIE | F37: =D37*E37 -> 0 | I37: QUADRATURA | N37: =N36-N29 -> 0 | O37: 12 | S37: SPEAKER
B38: PREMI NATURA | F38: =D38*E38 -> 0 | O38: 13 | S38: TABELLONE
F39: =D39*E39 -> 0 | I39: RECUPERO ISCRIZIONI | O39: 14 | S39: MEDICO
B40: PREMI | F40: =SUM(F37:F39) -> 0 | G40: =F40 -> 0 | S40: PETTORALI
B41: CARBURANTE+PEDAGGIO | D41: 1 | F41: =D41*E41 -> 0 | G41: =-F41 -> 0 | N41: =N36+N39 -> 0 | O41: 15 | S41: D.T.
...

Sheet Gara 6
B2: DATA
B3: LOCALITA'
B4: PISTA
B5: NOME GARA
B6: TROFEO 1
B7: TROFEO 2
A8: IMPIANTI | B8: COSTI | D8: N. | E8: COSTO UNITARIO | F8: TOTALE | I8: ISCRIZIONI | J8: GARA N. | K8: TIPO | L8: N. | M8: RICAVO UNITARIO | N8: TOTALE
B9: PISTA ALLEGHE | F9: =D9*E9 -> 0
B10: PISTA S. PELLEGRINO | F10: =D10*E10 -> 0 | H10: ok
B11: TRACCIATURA | F11: =D11*E11 -> 0 | N11: =L11*M11 -> 0
B12: GUARDIAPORTE | F12: =D12*E12 -> 0 | N12: =L12*M12 -> 0
B13: ASSISTENZA IN PISTA | F13: =D13*E13 -> 0 | N13: =L13*M13 -> 0
B14: RIMBORSO PALI | F14: =D14*E14 -> 0 | N14: =L14*M14 -> 0
B15: GATTO | F15: =D15*E15 -> 0 | N15: =L15*M15 -> 0
B16: TOTALE IMPIANTI | F16: =SUM(F9:F15) -> 0 | G16: =F16 -> 0 | N16: =L16*M16 -> 0
B17: AMBULANZA | G17: =F17 -> 0 | N17: =L17*M17 -> 0
A18: GIUDICI | B18: MEDICO | F18: =D18*E18 -> 0 | G18: =F18 -> 0 | N18: =L18*M18 -> 0
B19: KM TD FREGONESE | F19: =D19*E19 -> 0 | H19: ok | N19: =L19*M19 -> 0
B20: KM TD FUNDONE | F20: =D20*E20 -> 0 | H20: ok | N20: =L20*M20 -> 0
B21: KM TD LAGNERINI | H21: ok | N21: =L21*M21 -> 0
B22: KM TD TOMMASI | I22: RESO GARA PRECEDENTE
B23: DIARIA TD | F23: =D23*E23 -> 0 | H23: ok | I23: N. ISCRIZIONI | L23: =SUM(L9:L22) -> 0 | N23: =SUM(N9:N22) -> 0
B24: DIARIA GIU DI PART | F24: =D24*E24 -> 0 | H24: ok | I24: PARTITI | N24: =L24*M24 -> 0
B25: TOTALE GIUDICI | F25: =SUM(F19:F24) -> 0 | G25: =F25 -> 0 | I25: NON PARTITI | N25: =L25*M25 -> 0
B26: CRONOMETRISTI BL | G26: =F26 -> 0 | H26: ok
B27: CRONOMETRISTI TN | G27: =F27 -> 0 | I27: NETTO ISCRITTI | N27: =N23-N25 -> 0
A28: VITTO/ALLOGGIO | B28: ALLOGGIO ALLEGHE | F28: =D28*E28 -> 0 | H28: ok | N28: =N27 -> 0
B29: ALLOGGIO ELABORA | F29: =D29*E29 -> 0 | H29: ok | I29: ISCRITTI CSAV | N29: =L29*-M29 -> 0
B30: ALLOGGIO FALCADE | F30: =D30*E30 -> 0 | H30: ok | I30: NETTO ISCRIZIONI | N30: =SUM(N28:N29) -> 0
B31: CENA GIUDICI FALCADE | F31: =D31*E31 -> 0 | H31: ok | N31: =L31*M31 -> 0
B32: CENA STAFF APRES SKI | F32: =D32*E32 -> 0 | H32: ok | I32: CONTANTI | N32: =M32 -> 0
B33: BRINDISI STAFF | F33: =D33*E33 -> 0 | H33: ok | I33: PAYPAL | N33: =M33 -> 0
B34: SPUNTINO RDG | F34: =D34*E34 -> 0 | H34: ok | I34: ASSEGNI | N34: =M34 -> 0
B35: EXTRA HOTEL | F35: =E35 -> 0 | H35: ok | I35: BONIFICI | N35: =L35*M35 -> 0
B36: VITTO/ALLOGGIO | F36: =SUM(F28:F35) -> 0 | G36: =F36 -> 0 | N36: =SUM(N32:N35) -> 0
A37: PREMI | B37: COPPE/MEDAGLIE | D37: 0 | F37: =D37*E37 -> 0 | G37: 0 | I37: QUADRATURA | N37: =N36-N30 -> 0
B38: ETICHETTE COPPE | D38: 0 | F38: =D38*E38 -> 0 | G38: 0
B39: ZAINI | F39: =D39*E39 -> 0 | H39: ok
B40: STAMPA ZAINI | F40: =D40*E40 -> 0 | H40: ok
F41: =D41*E41 -> 0
...

Sheet Gara 7
B1: DATA
B2: LOCALITA'
B3: PISTA
B4: NOME GARA
B5: TROFEO 1
B6: TROFEO 2
A7: IMPIANTI | B7: COSTI | D7: N. | E7: COSTO UNITARIO | F7: TOTALE | I7: ISCRIZIONI | J7: GARA N. | K7: TIPO | L7: N. | M7: RICAVO UNITARIO | N7: TOTALE
B8: NOLEGGIO PISTA | F8: =D8*E8 -> 0 | N8: =L8*M8 -> 0
B9: TRACCIATURA | F9: =D9*E9 -> 0 | N9: =L9*M9 -> 0
B10: GUARDIAPORTE | F10: =D10*E10 -> 0 | N10: =L10*M10 -> 0
B11: SOCCORSO MOTOSLITTA | F11: =D11*E11 -> 0 | N11: =L11*M11 -> 0
B12: ASSISTENZA IN PISTA | F12: =D12*E12 -> 0 | N12: =L12*M12 -> 0
B13: RIMBORSO PALI | F13: =D13*E13 -> 0 | N13: =L13*M13 -> 0
B14: GATTO | F14: =D14*E14 -> 0 | N14: =L14*M14 -> 0
B15: TOTALE IMPIANTI | F15: =SUM(F8:F14) -> 0 | G15: =F15 -> 0 | N15: =L15*M15 -> 0
B16: AMBULANZA | G16: =F16 -> 0 | N16: =L16*M16 -> 0
A17: GIUDICI | B17: KM T.D. | F17: =D17*E17 -> 0 | N17: =L17*M17 -> 0
B18: DIARIA T.D. | F18: =D18*E18 -> 0 | N18: =L18*M18 -> 0
B19: RIMBORSO SPESE T.D. | F19: =D19*E19 -> 0 | N19: =L19*M19 -> 0
B20: KM T.D. | F20: =D20*E20 -> 0 | N20: =L20*M20 -> 0
B21: DIARIA GIUDICI | F21: =D21*E21 -> 0 | I21: N. ISCRIZIONI | L21: =SUM(L8:L19) -> 0 | N21: =SUM(N8:N19) -> 0
B22: SPESE GIUDICI | F22: =D22*E22 -> 0 | I22: PARTITI | N22: =L22*M22 -> 0
B23: TOTALE GIUDICI | F23: =SUM(F18:F22) -> 0 | G23: =F23 -> 0 | I23: NON PARTITI | N23: =L23*M23 -> 0
B24: CRONOMETRISTRI | F24: =D24*E24 -> 0 | G24: =F24 -> 0 | I24: NETTO ISCRITTI | N24: =N21-N23 -> 0
A25: VITTO/ALLOGGIO | B25: ALLOGGIO GIUDICI | F25: =D25*E25 -> 0 | N25: =N24 -> 0
B26: VITTO GIUDICI | F26: =D26*E26 -> 0 | I26: ISCRITTI CSAV | N26: =L26*M26 -> 0
B27: ALLOGGIO CRONO | F27: =D27*E27 -> 0 | I27: NETTO ISCRIZIONI | N27: =N25-N26 -> 0
B28: VITTO CRONO | F28: =D28*E28 -> 0 | N28: =L28*M28 -> 0
B29: VITTO CSAV | F29: =D29*E29 -> 0 | I29: CONTANTI
B30: RIFUGIO | F30: =D30*E30 -> 0 | I30: ASSEGNI | N30: =M30 -> 0
B31: BAR/PANINI | F31: =E31 -> 0 | I31: BONIFICI | N31: =L31*M31 -> 0
B32: VITTO/ALLOGGIO | F32: =SUM(F25:F31) -> 0 | G32: =F32 -> 0 | N32: =SUM(N29:N31) -> 0
A33: PREMI | B33: COPPE/MEDAGLIE | F33: =D33*E33 -> 0 | I33: CONTANTI | N33: =N27-N32 -> 0
B34: PREMI NATURA | F34: =D34*E34 -> 0 | N34: =N27 -> 0
B35: PREMI PETTORALI | F35: =D35*E35 -> 0 | I35: RECUPERO ISCRIZIONI | N35: =L35*M35 -> 0
B36: PREMI | F36: =SUM(F33:F35) -> 0 | G36: =F36 -> 0
B37: CARBURANTE | E37: 0 | F37: =D37*E37 -> 0 | G37: =F37 -> 0 | N37: =L37*M37 -> 0
B38: COSTI | E38: TOTALE | F38: =F15+F23+F24+F32+F36 -> 0 | G38: =SUM(G8:G37) -> 0 | I38: RICAVI | L38: TOTALI | M38: =SUM(N34:N37) -> 0
B39: Presenti
K40: BILANCIO GARA | M40: =M38-G38 -> 0
...

Sheet Vademecum
A1: 1 | B1: Regolamento
A2: 2 | C2: inviare a Giuduci
A3: 3 | C3: inviare a Impianti
A4: 4 | B4: Mod Giuria
A5: 5 | B5: Sponsor
A6: 6 | B6: Richiesta crono
A7: 7 | B7: Premi
B10: Pettorali atleti
B11: Pettorali assistenza
B12: Sacchetti
B13: Tabelle guardiaporte
B14: Fogli guardiaporte
B15: Cassetta
B16: Cucitrice e punti ricambio
B17: Puntine
B18: Scotch
B19: Scatolone pettorali
